BEGIN:VCALENDAR
VERSION:2.0
PRODID:-//MaryAnn DiMarco - ECPv6.15.20//NONSGML v1.0//EN
CALSCALE:GREGORIAN
METHOD:PUBLISH
X-WR-CALNAME:MaryAnn DiMarco
X-ORIGINAL-URL:https://maryanndimarco.com/staging/2183
X-WR-CALDESC:Events for MaryAnn DiMarco
REFRESH-INTERVAL;VALUE=DURATION:PT1H
X-Robots-Tag:noindex
X-PUBLISHED-TTL:PT1H
BEGIN:VTIMEZONE
TZID:America/Creston
BEGIN:STANDARD
TZOFFSETFROM:-0700
TZOFFSETTO:-0700
TZNAME:MST
DTSTART:20240101T000000
END:STANDARD
END:VTIMEZONE
BEGIN:VEVENT
DTSTART;VALUE=DATE:20250925
DTEND;VALUE=DATE:20250926
DTSTAMP:20260425T003256
CREATED:20250718T210400Z
LAST-MODIFIED:20250722T225951Z
UID:226435-1758758400-1758844799@maryanndimarco.com
SUMMARY:Virtual Book Launch Party
DESCRIPTION:I’m so excited to finally share this with you… \nMy brand-new book\, The Guide(s) Book: Mapping Out Life’s Journey with Spirit by Your Side\, is coming this September — and I’d love for you to celebrate this special moment with me! \n✨ Join me for my Virtual Launch Party! ✨ \n🗓 Date: September 25th⏰ Time: 3pm PST / 5pm CST / 6pm EST📍 Where: Live on Zoom \nAt this exclusive event\, I’ll be sharing:🔮 The inspiration behind The Guide(s) Book🌟 How our Guides help us navigate life’s twists and turns🙋‍♀️ A live Q&A where I’ll answer your questions about the book and connecting with your own Guides \nHere’s how to join the party: \n✅ Step 1: Preorder The Guide(s) BookAlready preordered? Amazing! 🎉 Skip to Step 3!If you haven’t yet\, 👉 Click here to preorder your copy \n✅ Step 2: Save Your Receipt or Proof of PurchaseOnce you preorder\, keep your receipt handy (a screenshot or email confirmation works perfectly). \n✅ Step 3: Register for the Virtual Launch Party \n👉 Click here to register and upload your proof of purchase \nThat’s it! Once you’re registered\, you’ll receive all the details to join me live on Zoom. I can’t wait to celebrate with you\, connect in real time\, and dive deeper into the incredible wisdom our Guides have for us.
URL:https://maryanndimarco.com/staging/2183/event/virtual-book-launch-party/
LOCATION:Virtual Event
ATTACH;FMTTYPE=image/png:https://maryanndimarco.com/staging/2183/wp-content/uploads/2025/07/1080-x-1350-Event.png
END:VEVENT
END:VCALENDAR