BEGIN:VCALENDAR
VERSION:2.0
PRODID:-//MaryAnn DiMarco - ECPv6.15.20//NONSGML v1.0//EN
CALSCALE:GREGORIAN
METHOD:PUBLISH
X-WR-CALNAME:MaryAnn DiMarco
X-ORIGINAL-URL:https://maryanndimarco.com
X-WR-CALDESC:Events for MaryAnn DiMarco
REFRESH-INTERVAL;VALUE=DURATION:PT1H
X-Robots-Tag:noindex
X-PUBLISHED-TTL:PT1H
BEGIN:VTIMEZONE
TZID:UTC
BEGIN:STANDARD
TZOFFSETFROM:+0000
TZOFFSETTO:+0000
TZNAME:UTC
DTSTART:20240101T000000
END:STANDARD
END:VTIMEZONE
BEGIN:VEVENT
DTSTART;TZID=UTC:20250727T190000
DTEND;TZID=UTC:20250727T220000
DTSTAMP:20260425T030309
CREATED:20250313T163124Z
LAST-MODIFIED:20250327T200649Z
UID:225373-1753642800-1753653600@maryanndimarco.com
SUMMARY:Medium Mentor At Work — Gallery Reading
DESCRIPTION:MEDIUM MENTOR AT WORK – GALLERY READING\nJoin MaryAnn at Lily Dale for a powerful and interactive evening event where she will teach by demonstrating her own reading technique and channel messages from your loved ones and Guides in a gallery-style format.Through her approachable style and relatable humor\, MaryAnn will guide you through obstacles like fear and self-doubt to harness intuition and receive messages from your Guides and the Universe. Get ready for a lively and spirited evening! \nGET YOUR TICKETS HERE
URL:https://maryanndimarco.com/event/medium-mentor-at-work-gallery-reading/
LOCATION:Lily Dale Auditorium\, Melrose Dr\, Lily Dale\, NY\, 14718\, United States
ATTACH;FMTTYPE=image/png:https://maryanndimarco.com/wp-content/uploads/2025/03/InstaSquare-SeasonHighlightMaryAnnDiMarco.png
END:VEVENT
END:VCALENDAR