BEGIN:VCALENDAR
VERSION:2.0
PRODID:-//MaryAnn DiMarco - ECPv6.15.20//NONSGML v1.0//EN
CALSCALE:GREGORIAN
METHOD:PUBLISH
X-WR-CALNAME:MaryAnn DiMarco
X-ORIGINAL-URL:https://maryanndimarco.com
X-WR-CALDESC:Events for MaryAnn DiMarco
REFRESH-INTERVAL;VALUE=DURATION:PT1H
X-Robots-Tag:noindex
X-PUBLISHED-TTL:PT1H
BEGIN:VTIMEZONE
TZID:UTC
BEGIN:STANDARD
TZOFFSETFROM:+0000
TZOFFSETTO:+0000
TZNAME:UTC
DTSTART:20240101T000000
END:STANDARD
END:VTIMEZONE
BEGIN:VEVENT
DTSTART;VALUE=DATE:20251121
DTEND;VALUE=DATE:20251124
DTSTAMP:20260424T212726
CREATED:20250510T142942Z
LAST-MODIFIED:20251112T043922Z
UID:226352-1763683200-1763942399@maryanndimarco.com
SUMMARY:Mapping Out Life's Journey with Spirit Guides by Your Side at Kripalu
DESCRIPTION:Embark on an illuminating journey of self-discovery\, spiritual connection\, and personal empowerment during this exclusive weekend retreat with internationally recognized psychic medium and spiritual teacher\, MaryAnn DiMarco.\nBased on her upcoming book\, The Guide(s) Book: Mapping Out Life’s Journey with Spirit by Your Side\, this retreat is your opportunity to deepen your relationship with Spirit\, connect to your personal inner guidance\, and transform your life’s challenges into stepping stones for growth.\nOver the course of this weekend\, MaryAnn will guide you through the teachings and practical techniques that will help you learn to connect with your Spirit Team—spirit guides\, loved ones on the Other Side\, and Source energy—and use their wisdom to navigate your life with greater clarity\, purpose\, and confidence.\nThrough hands-on workshops\, live channeling sessions\, transformative meditations\, interactive discussions\, and practical integration\, you will:\nDiscover your spiritual team: Meet your spirit guides\, learn how they support you\, and understand their unique role in helping you navigate life’s twists and turns.\nBreak old patterns: Dive deep into identifying outdated habits and blocks\, and use MaryAnn’s proven methods to create lasting personal growth.\nRerouted with purpose: Learn to embrace the unexpected and interpret Spirit’s messages—even when life feels confusing or chaotic.\nTrusting your path: Discover how to integrate spiritual guidance into your life\, find flow\, and trust the journey—even when it’s still unfolding.\nThis retreat is perfect for spiritually curious individuals seeking a deeper connection to their intuition and guides; practitioners and lightworkers looking to refine their spiritual gifts; or anyone ready to overcome roadblocks\, rediscover their purpose\, and navigate life with confidence and clarity. You’ll leave with enhanced tools designed for co-creating the life you want.\nWhether you’re new to this path or a seasoned spiritual seeker\, MaryAnn’s grounded\, practical\, and relatable approach will meet you exactly where you are.\nRecommended Reading: MaryAnn DiMarco\, The Guide(s) Book: Mapping Out Life’s Journey with Spirit by Your Side\nPrivate Pre-Event SessionFriday November 21\, 4:45-6:00 pm\nMaryAnn will channel a collective download and universal message in a special session before the full program begins. Each participant in this group will be able to ask MaryAnn one question. Limited to 20 people. To book this option\, please select the On Campus + Pre-Event Session for $529.\n			\n				REGISTER HERE
URL:https://maryanndimarco.com/event/mapping-out-lifes-journey-with-spirit-guides-by-your-side-at-kripalu/
LOCATION:Kripalu Center for Yoga and Health\, 57 Interlaken Road\, Stockbridge\, MA\, 01262\, United States
ATTACH;FMTTYPE=image/png:https://maryanndimarco.com/wp-content/uploads/2025/05/kripalu-nov-2025.png
END:VEVENT
END:VCALENDAR