BEGIN:VCALENDAR
VERSION:2.0
PRODID:-//MaryAnn DiMarco - ECPv6.15.20//NONSGML v1.0//EN
CALSCALE:GREGORIAN
METHOD:PUBLISH
X-WR-CALNAME:MaryAnn DiMarco
X-ORIGINAL-URL:https://maryanndimarco.com
X-WR-CALDESC:Events for MaryAnn DiMarco
REFRESH-INTERVAL;VALUE=DURATION:PT1H
X-Robots-Tag:noindex
X-PUBLISHED-TTL:PT1H
BEGIN:VTIMEZONE
TZID:UTC
BEGIN:STANDARD
TZOFFSETFROM:+0000
TZOFFSETTO:+0000
TZNAME:UTC
DTSTART:20250101T000000
END:STANDARD
END:VTIMEZONE
BEGIN:VEVENT
DTSTART;TZID=UTC:20260218T190000
DTEND;TZID=UTC:20260218T203000
DTSTAMP:20260423T004140
CREATED:20260105T151859Z
LAST-MODIFIED:20260105T152833Z
UID:227050-1771441200-1771446600@maryanndimarco.com
SUMMARY:Developing Your Intuition
DESCRIPTION:Your Intuition Is Your Magic\nYou are intuitive—yes\, really. \nIn this transformative and interactive virtual workshop\, internationally renowned spiritual teacher\, author\, and psychic medium MaryAnn DiMarco will help you awaken your natural intuitive gifts and step fully into your power as a receiver of divine guidance. \nWe all connect with Spirit in our own unique ways—through sight\, sound\, feeling\, knowing\, and more—known as the Clairs. MaryAnn will help you identify and strengthen your personal intuitive language so that tuning into messages from your Spirit Team feels effortless\, authentic\, and deeply empowering. \nYou’ll also explore the practical side of intuition—working with crystals\, oracle cards\, and other sacred tools to ground and amplify your energetic connection. Through guided exercises and heart-opening discussion\, you’ll learn how to recognize\, trust\, and act on the intuitive hits that are already lighting your path. \nThis evening is a journey of discovery\, confidence\, and connection—with Spirit\, with community\, and with yourself. You’ll walk away not only knowing how you receive intuitive messages\, but also feeling clear\, aligned\, and supported by the loving guidance that’s always with you. \nWhether you’re at the beginning of your intuitive awakening or ready to expand your spiritual practice\, this workshop will leave you feeling powerful\, attuned\, and ready to trust your inner knowing—because your intuition isn’t a mystery. It’s your magic.
URL:https://maryanndimarco.com/event/developing-your-intuition/
LOCATION:Virtual Event
ATTACH;FMTTYPE=image/png:https://maryanndimarco.com/wp-content/uploads/2026/01/kripalu-feb-2026.png
END:VEVENT
END:VCALENDAR